BEGIN:VCALENDAR
VERSION:2.0
PRODID:-//https://eruuf.org///NONSGML kigkonsult.se iCalcreator 2.10.15//
METHOD:PUBLISH
BEGIN:VEVENT
UID:20260425T011354UTC-4002OkiUNo@https://eruuf.org/
DTSTAMP:20260425T011354Z
DESCRIPTION:Monthly meeting of the Triangle area UU ministers. https://eruu
 f.org/calendar/calendar-view/event/2172-thuuma-meeting.html
DTSTART:20160407T130000Z
DTEND:20160407T160000Z
LOCATION:Fellowship Hall   ()
SUMMARY:THUUMA meeting
URL:https://eruuf.org/calendar/calendar-view/event/2172-thuuma-meeting.html
END:VEVENT
END:VCALENDAR
