BEGIN:VCALENDAR
VERSION:2.0
PRODID:-//https://eruuf.org///NONSGML kigkonsult.se iCalcreator 2.10.15//
METHOD:PUBLISH
BEGIN:VEVENT
UID:20260422T225257UTC-6007bUGrFL@https://eruuf.org/
DTSTAMP:20260422T225257Z
DESCRIPTION:Monthly meeting of the Triangle area UU ministers. https://eruu
 f.org/calendar/calendar-view/event/2173-thuuma-meeting.html
DTSTART:20160303T140000Z
DTEND:20160303T170000Z
LOCATION:Fellowship Hall   ()
SUMMARY:THUUMA meeting
URL:https://eruuf.org/calendar/calendar-view/event/2173-thuuma-meeting.html
END:VEVENT
END:VCALENDAR
