BEGIN:VCALENDAR
VERSION:2.0
PRODID:-//https://eruuf.org///NONSGML kigkonsult.se iCalcreator 2.10.15//
METHOD:PUBLISH
BEGIN:VEVENT
UID:20260420T020332UTC-5661XLv7Kc@https://eruuf.org/
DTSTAMP:20260420T020332Z
DESCRIPTION:The K/1st grade OWL level will run from 4 to 5 pm on eight Satu
 rdays from January through early March in the CARE Building.  Preregistrat
 ion was required for this class.  Contact Julia Tyler\, jtyler@eruuf.org o
 r Jalene Bowersmith   https://eruuf.org/calendar/calendar-view/event/2190-
 k-1st-grade-o-w-l-class.html
DTSTART:20160313T173000Z
DTEND:20160313T190000Z
LOCATION:Room 2 and Room 15 - CARE Building (4907 Garrett Rd\, Durham\, NC 
 27707\, USA)
SUMMARY:K/1st Grade O.W.L. class
URL:https://eruuf.org/calendar/calendar-view/event/2190-k-1st-grade-o-w-l-c
 lass.html
END:VEVENT
END:VCALENDAR
