BEGIN:VCALENDAR
VERSION:2.0
PRODID:-//https://eruuf.org///NONSGML kigkonsult.se iCalcreator 2.10.15//
METHOD:PUBLISH
BEGIN:VEVENT
UID:20260422T044756UTC-6924dNcOkj@https://eruuf.org/
DTSTAMP:20260422T044756Z
DESCRIPTION:Have you been thinking about becoming a member of ERUUF? Contac
 t student minister Jacqueline Brett for more details: jbrett@eruuf.org. ht
 tps://eruuf.org/calendar/calendar-view/event/2195-journey-to-membership-cl
 ass.html
DTSTART:20160521T130000Z
DTEND:20160522T160000Z
LOCATION:Room 4/5   (4907 Garrett Rd\, Durham\, NC 27707   )
SUMMARY:Journey to Membership Class
URL:https://eruuf.org/calendar/calendar-view/event/2195-journey-to-membersh
 ip-class.html
END:VEVENT
END:VCALENDAR
