BEGIN:VCALENDAR
VERSION:2.0
PRODID:-//https://eruuf.org///NONSGML kigkonsult.se iCalcreator 2.10.15//
METHOD:PUBLISH
BEGIN:VEVENT
UID:20260425T133831UTC-9135oGnsiV@https://eruuf.org/
DTSTAMP:20260425T133831Z
DESCRIPTION:Spring Session of Wednesday Connections will run from April 6-A
 pril 30.  Classes to be announced soon.  Stay tuned! https://eruuf.org/cal
 endar/calendar-view/event/2208-wednesday-connections.html
DTSTART:20160420T214500Z
DTEND:20160421T001500Z
LOCATION:ERUUF Campus   (4907 Garrett Rd\, Durham\, NC 27707    )
SUMMARY:Wednesday Connections
URL:https://eruuf.org/calendar/calendar-view/event/2208-wednesday-connectio
 ns.html
END:VEVENT
END:VCALENDAR
