BEGIN:VCALENDAR
VERSION:2.0
PRODID:-//https://eruuf.org///NONSGML kigkonsult.se iCalcreator 2.10.15//
METHOD:PUBLISH
BEGIN:VEVENT
UID:20260422T163159UTC-1744aJXLcU@https://eruuf.org/
DTSTAMP:20260422T163159Z
DESCRIPTION:Monthly gathering of the Parent's Group.  Contact Christine Fro
 st https://eruuf.org/calendar/calendar-view/event/2210-parents-group.html
DTSTART:20160812T223000Z
DTEND:20160813T003000Z
LOCATION:Room 4/5   (4907 Garrett Rd\, Durham\, NC 27707   )
SUMMARY:Parents Group
URL:https://eruuf.org/calendar/calendar-view/event/2210-parents-group.html
END:VEVENT
END:VCALENDAR
