BEGIN:VCALENDAR
VERSION:2.0
PRODID:-//https://eruuf.org///NONSGML kigkonsult.se iCalcreator 2.10.15//
METHOD:PUBLISH
BEGIN:VEVENT
UID:20260422T021954UTC-0086x4T46O@https://eruuf.org/
DTSTAMP:20260422T021954Z
DESCRIPTION:Monthly gathering of the Parent's Group.  Contact Christine Fro
 st https://eruuf.org/calendar/calendar-view/event/2211-parents-group.html
DTSTART:20160708T223000Z
DTEND:20160709T003000Z
LOCATION:Room 4/5   (4907 Garrett Rd\, Durham\, NC 27707   )
SUMMARY:Parents Group
URL:https://eruuf.org/calendar/calendar-view/event/2211-parents-group.html
END:VEVENT
END:VCALENDAR
