BEGIN:VCALENDAR
VERSION:2.0
PRODID:-//https://eruuf.org///NONSGML kigkonsult.se iCalcreator 2.10.15//
METHOD:PUBLISH
BEGIN:VEVENT
UID:20260425T122634UTC-92117zUsEb@https://eruuf.org/
DTSTAMP:20260425T122634Z
DESCRIPTION:The ERUUF Parents Group invites kids of all ages to bring their
  favorite board game(s) to share and play. SORRY! MONOPOLY! LIFE! TROUBLE!
  Get your game on\, ERUUF! Join us for a potluck dinner\, too! Take-out an
 d homemade dishes are welcome. See you for dinner and games on June 10. Co
 ntact Christine Frost at xatalli@yahoo.com with any questions.   https://e
 ruuf.org/calendar/calendar-view/event/2212-parents-group.html
DTSTART:20160610T223000Z
DTEND:20160611T003000Z
LOCATION:Room 4/5   (4907 Garrett Rd\, Durham\, NC 27707   )
SUMMARY:Parents Group
URL:https://eruuf.org/calendar/calendar-view/event/2212-parents-group.html
END:VEVENT
END:VCALENDAR
