BEGIN:VCALENDAR
VERSION:2.0
PRODID:-//https://eruuf.org///NONSGML kigkonsult.se iCalcreator 2.10.15//
METHOD:PUBLISH
BEGIN:VEVENT
UID:20260419T183513UTC-1029XoUP4L@https://eruuf.org/
DTSTAMP:20260419T183513Z
DESCRIPTION:The Multicultural team is providing a series of thought-provoki
 ng discussions about race and culture in America\, the importance of diver
 sity\, and how we make progress toward beloved community in June and July.
 Tonight we will view and discuss Anna Deveare Smith performs four American
  characters. We’ll view the performance of a Korean women talking about ra
 ce after the Rodney King beating and riots.  https://eruuf.org/calendar/ca
 lendar-view/event/2251-multicultural-team-video-viewing-and-discussion.htm
 l
DTSTART:20160713T230000Z
DTEND:20160714T010000Z
LOCATION:Room 4/5   (4907 Garrett Rd\, Durham\, NC 27707   )
SUMMARY:Multicultural Team Video Viewing and Discussion
URL:https://eruuf.org/calendar/calendar-view/event/2251-multicultural-team-
 video-viewing-and-discussion.html
END:VEVENT
END:VCALENDAR
