BEGIN:VCALENDAR
VERSION:2.0
PRODID:-//https://eruuf.org///NONSGML kigkonsult.se iCalcreator 2.10.15//
METHOD:PUBLISH
BEGIN:VEVENT
UID:20260423T212227UTC-6848oRShOV@https://eruuf.org/
DTSTAMP:20260423T212227Z
DESCRIPTION:The Multicultural team is providing a series of thought-provoki
 ng discussions about race and culture in America\, the importance of diver
 sity\, and how we make progress toward beloved community in June and July.
 Tonight we will view and discuss 'The Danger of the Single Story\,' by Chi
 mamanda Ngozi Adichie https://eruuf.org/calendar/calendar-view/event/2252-
 multicultural-team-video-viewing-and-discussion.html
DTSTART:20160706T230000Z
DTEND:20160707T010000Z
LOCATION:Room 7 - CARE Building ()
SUMMARY:Multicultural Team Video Viewing and Discussion
URL:https://eruuf.org/calendar/calendar-view/event/2252-multicultural-team-
 video-viewing-and-discussion.html
END:VEVENT
END:VCALENDAR
