BEGIN:VCALENDAR
VERSION:2.0
PRODID:-//https://eruuf.org///NONSGML kigkonsult.se iCalcreator 2.10.15//
METHOD:PUBLISH
BEGIN:VEVENT
UID:20260422T213326UTC-9624emGc7M@https://eruuf.org/
DTSTAMP:20260422T213326Z
DESCRIPTION:The Multicultural team is providing a series of thought-provoki
 ng discussions about race and culture in America\, the importance of diver
 sity\, and how we make progress toward beloved community in June and July.
 Tonight we will view and discuss 'Confessions of a bad feminist' by Roxane
  Gay https://eruuf.org/calendar/calendar-view/event/2253-multicultural-tea
 m-video-viewing-and-discussion.html
DTSTART:20160615T230000Z
DTEND:20160616T010000Z
LOCATION:Room 4/5   (4907 Garrett Rd\, Durham\, NC 27707   )
SUMMARY:Multicultural Team Video Viewing and Discussion
URL:https://eruuf.org/calendar/calendar-view/event/2253-multicultural-team-
 video-viewing-and-discussion.html
END:VEVENT
END:VCALENDAR
