BEGIN:VCALENDAR
VERSION:2.0
PRODID:-//https://eruuf.org///NONSGML kigkonsult.se iCalcreator 2.10.15//
METHOD:PUBLISH
BEGIN:VEVENT
UID:20260423T100055UTC-4440U8V3tI@https://eruuf.org/
DTSTAMP:20260423T100055Z
DESCRIPTION:The Multicultural team is providing a series of thought-provoki
 ng discussions about race and culture in America\, the importance of diver
 sity\, and how we make progress toward beloved community in June and July.
 Tonight we will view and discuss 'Why I love a country that once betrayed 
 me\,' by George Takei. Takei tells his own story of internment of Japanese
  Americans. https://eruuf.org/calendar/calendar-view/event/2254-multicultu
 ral-team-video-viewing-and-discussion.html
DTSTART:20160608T230000Z
DTEND:20160609T010000Z
LOCATION:Room 4/5   (4907 Garrett Rd\, Durham\, NC 27707   )
SUMMARY:Multicultural Team Video Viewing and Discussion
URL:https://eruuf.org/calendar/calendar-view/event/2254-multicultural-team-
 video-viewing-and-discussion.html
END:VEVENT
END:VCALENDAR
