BEGIN:VCALENDAR
VERSION:2.0
PRODID:-//https://eruuf.org///NONSGML kigkonsult.se iCalcreator 2.10.15//
METHOD:PUBLISH
BEGIN:VEVENT
UID:20260423T015820UTC-0112fEGoju@https://eruuf.org/
DTSTAMP:20260423T015820Z
DESCRIPTION:Closing Session of the Next Steps Weekend with consultant Mark 
 Ewert.  By Invitation only.  Contact Mark Henault https://eruuf.org/calend
 ar/calendar-view/event/226-stewardship-council-next-steps-weekend.html
DTSTART:20170924T170000Z
DTEND:20170924T200000Z
LOCATION:Room 4/5   (4907 Garrett Rd\, Durham\, NC 27707   )
SUMMARY:Stewardship Council -Next Steps Weekend
URL:https://eruuf.org/calendar/calendar-view/event/226-stewardship-council-
 next-steps-weekend.html
END:VEVENT
END:VCALENDAR
