BEGIN:VCALENDAR
VERSION:2.0
PRODID:-//https://eruuf.org///NONSGML kigkonsult.se iCalcreator 2.10.15//
METHOD:PUBLISH
BEGIN:VEVENT
UID:20260422T213214UTC-5943EZu2kl@https://eruuf.org/
DTSTAMP:20260422T213214Z
DESCRIPTION:Earth Justice Team meeting. Contact Cheryl Turney or Christine 
 https://eruuf.org/calendar/calendar-view/event/2267-earth-justice-meeting.
 html
DTSTART:20160614T230000Z
DTEND:20160615T010000Z
LOCATION:Commons Room   (4907 Garrett Rd\, Durham\, NC 27707  )
SUMMARY:Earth Justice meeting
URL:https://eruuf.org/calendar/calendar-view/event/2267-earth-justice-meeti
 ng.html
END:VEVENT
END:VCALENDAR
