BEGIN:VCALENDAR
VERSION:2.0
PRODID:-//https://eruuf.org///NONSGML kigkonsult.se iCalcreator 2.10.15//
METHOD:PUBLISH
BEGIN:VEVENT
UID:20260419T233946UTC-5270dgXH7v@https://eruuf.org/
DTSTAMP:20260419T233946Z
DESCRIPTION:Monthly meeting of the Justice Ministry Council.  Contact Amass
 a Fauntleroy at justice@eruuf.org https://eruuf.org/calendar/calendar-view
 /event/2269-justice-ministry-council-meeting.html
DTSTART:20170411T230000Z
DTEND:20170412T010000Z
LOCATION:Room 1 - CARE Building ()
SUMMARY:Justice Ministry Council meeting
URL:https://eruuf.org/calendar/calendar-view/event/2269-justice-ministry-co
 uncil-meeting.html
END:VEVENT
END:VCALENDAR
