BEGIN:VCALENDAR
VERSION:2.0
PRODID:-//https://eruuf.org///NONSGML kigkonsult.se iCalcreator 2.10.15//
METHOD:PUBLISH
BEGIN:VEVENT
UID:20260420T020808UTC-7145f3apUF@https://eruuf.org/
DTSTAMP:20260420T020808Z
DESCRIPTION:Monthly meeting of the Justice Ministry Council.  Contact Amass
 a Fauntleroy at justice@eruuf.org https://eruuf.org/calendar/calendar-view
 /event/2272-justice-ministry-council-meeting.html
DTSTART:20170111T000000Z
DTEND:20170111T020000Z
LOCATION:Room 1 - CARE Building ()
SUMMARY:Justice Ministry Council meeting
URL:https://eruuf.org/calendar/calendar-view/event/2272-justice-ministry-co
 uncil-meeting.html
END:VEVENT
END:VCALENDAR
