BEGIN:VCALENDAR
VERSION:2.0
PRODID:-//https://eruuf.org///NONSGML kigkonsult.se iCalcreator 2.10.15//
METHOD:PUBLISH
BEGIN:VEVENT
UID:20260425T040638UTC-90446uURj2@https://eruuf.org/
DTSTAMP:20260425T040638Z
DESCRIPTION:Monthly meeting of the Justice Ministry Council.  Contact Amass
 a Fauntleroy at justice@eruuf.org https://eruuf.org/calendar/calendar-view
 /event/2273-justice-ministry-council-meeting.html
DTSTART:20161214T000000Z
DTEND:20161214T020000Z
LOCATION:Room 1 - CARE Building ()
SUMMARY:Justice Ministry Council meeting
URL:https://eruuf.org/calendar/calendar-view/event/2273-justice-ministry-co
 uncil-meeting.html
END:VEVENT
END:VCALENDAR
