BEGIN:VCALENDAR
VERSION:2.0
PRODID:-//https://eruuf.org///NONSGML kigkonsult.se iCalcreator 2.10.15//
METHOD:PUBLISH
BEGIN:VEVENT
UID:20260423T163529UTC-63645R3gki@https://eruuf.org/
DTSTAMP:20260423T163529Z
DESCRIPTION:Monthly meeting of the Justice Ministry Council.  Contact Amass
 a Fauntleroy at justice@eruuf.org https://eruuf.org/calendar/calendar-view
 /event/2275-justice-ministry-council-meeting.html
DTSTART:20161011T230000Z
DTEND:20161012T010000Z
LOCATION:Room 1 - CARE Building ()
SUMMARY:Justice Ministry Council meeting
URL:https://eruuf.org/calendar/calendar-view/event/2275-justice-ministry-co
 uncil-meeting.html
END:VEVENT
END:VCALENDAR
