BEGIN:VCALENDAR
VERSION:2.0
PRODID:-//https://eruuf.org///NONSGML kigkonsult.se iCalcreator 2.10.15//
METHOD:PUBLISH
BEGIN:VEVENT
UID:20260424T101633UTC-0352dOWiNk@https://eruuf.org/
DTSTAMP:20260424T101633Z
DESCRIPTION:Beloved Conversations is an on-going discussion group for peopl
 e who have participated in a Dismantling Racism workshop at ERUUF.  Please
  contact Dan Grandstaff or Diane Blount about joining the group. https://e
 ruuf.org/calendar/calendar-view/event/2364-beloved-conversations.html
DTSTART:20170409T170000Z
DTEND:20170409T190000Z
LOCATION:Room 1 - CARE Building ()
SUMMARY:Beloved Conversations
URL:https://eruuf.org/calendar/calendar-view/event/2364-beloved-conversatio
 ns.html
END:VEVENT
END:VCALENDAR
