BEGIN:VCALENDAR
VERSION:2.0
PRODID:-//https://eruuf.org///NONSGML kigkonsult.se iCalcreator 2.10.15//
METHOD:PUBLISH
BEGIN:VEVENT
UID:20260423T001132UTC-010535dVu7@https://eruuf.org/
DTSTAMP:20260423T001132Z
DESCRIPTION:Beloved Conversations is an on-going discussion group for peopl
 e who have participated in a Dismantling Racism workshop at ERUUF.  Please
  contact Dan Grandstaff or Diane Blount about joining the group. https://e
 ruuf.org/calendar/calendar-view/event/2367-beloved-conversations.html
DTSTART:20170108T180000Z
DTEND:20170108T200000Z
LOCATION:Room 1 - CARE Building ()
SUMMARY:Beloved Conversations
URL:https://eruuf.org/calendar/calendar-view/event/2367-beloved-conversatio
 ns.html
END:VEVENT
END:VCALENDAR
