BEGIN:VCALENDAR
VERSION:2.0
PRODID:-//https://eruuf.org///NONSGML kigkonsult.se iCalcreator 2.10.15//
METHOD:PUBLISH
BEGIN:VEVENT
UID:20260420T051503UTC-1566IaDnvO@https://eruuf.org/
DTSTAMP:20260420T051503Z
DESCRIPTION:The Companions Network is commissioned to visit as caring repre
 sentatives of the congregation in response to ERUUF members’ joys\, sorrow
 s and milestones. Training occurs at the monthly meetings. For more inform
 ation\, contact Rev. Kacela or Network Leader\, Frank Baker\,  https://eru
 uf.org/calendar/calendar-view/event/2409-companions-network.html
DTSTART:20170307T180000Z
DTEND:20170307T193000Z
LOCATION:Commons Room   (4907 Garrett Rd\, Durham\, NC 27707  )
SUMMARY:Companions Network
URL:https://eruuf.org/calendar/calendar-view/event/2409-companions-network.
 html
END:VEVENT
END:VCALENDAR
