BEGIN:VCALENDAR
VERSION:2.0
PRODID:-//https://eruuf.org///NONSGML kigkonsult.se iCalcreator 2.10.15//
METHOD:PUBLISH
BEGIN:VEVENT
UID:20260419T234046UTC-5611teulTl@https://eruuf.org/
DTSTAMP:20260419T234046Z
DESCRIPTION:Meeting of the Board of SCSRN.  Contact Lonna Harkrader. https:
 //eruuf.org/calendar/calendar-view/event/2428-sister-communities-of-san-ra
 mon.html
DTSTART:20160822T230000Z
DTEND:20160823T010000Z
LOCATION:Room 1 - CARE Building ()
SUMMARY:Sister Communities of San Ramon
URL:https://eruuf.org/calendar/calendar-view/event/2428-sister-communities-
 of-san-ramon.html
END:VEVENT
END:VCALENDAR
