BEGIN:VCALENDAR
VERSION:2.0
PRODID:-//https://eruuf.org///NONSGML kigkonsult.se iCalcreator 2.10.15//
METHOD:PUBLISH
BEGIN:VEVENT
UID:20260419T195358UTC-625445jOzC@https://eruuf.org/
DTSTAMP:20260419T195358Z
DESCRIPTION:Monthly meeting of the Earth Justice Ministry Team.  Contact Ch
 eryl Turney for information https://eruuf.org/calendar/calendar-view/event
 /2439-earth-justice-ministry-team.html
DTSTART:20170507T170000Z
DTEND:20170507T183000Z
LOCATION:Fellowship Hall   ()
SUMMARY:Earth Justice Ministry Team
URL:https://eruuf.org/calendar/calendar-view/event/2439-earth-justice-minis
 try-team.html
END:VEVENT
END:VCALENDAR
