BEGIN:VCALENDAR
VERSION:2.0
PRODID:-//https://eruuf.org///NONSGML kigkonsult.se iCalcreator 2.10.15//
METHOD:PUBLISH
BEGIN:VEVENT
UID:20260423T193115UTC-3452sRAGKM@https://eruuf.org/
DTSTAMP:20260423T193115Z
DESCRIPTION:Monthly meeting of the Earth Justice Ministry Team.  Contact Ch
 eryl Turney for information https://eruuf.org/calendar/calendar-view/event
 /2442-earth-justice-ministry-team.html
DTSTART:20170205T180000Z
DTEND:20170205T193000Z
LOCATION:Fellowship Hall   ()
SUMMARY:Earth Justice Ministry Team
URL:https://eruuf.org/calendar/calendar-view/event/2442-earth-justice-minis
 try-team.html
END:VEVENT
END:VCALENDAR
