BEGIN:VCALENDAR
VERSION:2.0
PRODID:-//https://eruuf.org///NONSGML kigkonsult.se iCalcreator 2.10.15//
METHOD:PUBLISH
BEGIN:VEVENT
UID:20260422T142322UTC-4145uVLIXT@https://eruuf.org/
DTSTAMP:20260422T142322Z
DESCRIPTION:Monthly meeting of the Earth Justice Ministry Team.  Contact Ch
 eryl Turney for information https://eruuf.org/calendar/calendar-view/event
 /2443-earth-justice-ministry-team.html
DTSTART:20170108T180000Z
DTEND:20170108T200000Z
LOCATION:Room 7 - CARE Building ()
SUMMARY:Earth Justice Ministry Team
URL:https://eruuf.org/calendar/calendar-view/event/2443-earth-justice-minis
 try-team.html
END:VEVENT
END:VCALENDAR
