BEGIN:VCALENDAR
VERSION:2.0
PRODID:-//https://eruuf.org///NONSGML kigkonsult.se iCalcreator 2.10.15//
METHOD:PUBLISH
BEGIN:VEVENT
UID:20260421T203743UTC-54515xPzvu@https://eruuf.org/
DTSTAMP:20260421T203743Z
DESCRIPTION:Monthly meeting of the Earth Justice Ministry Team.  Contact Ch
 eryl Turney for information https://eruuf.org/calendar/calendar-view/event
 /2445-earth-justice-ministry-team.html
DTSTART:20161106T180000Z
DTEND:20161106T193000Z
LOCATION:Fellowship Hall   ()
SUMMARY:Earth Justice Ministry Team
URL:https://eruuf.org/calendar/calendar-view/event/2445-earth-justice-minis
 try-team.html
END:VEVENT
END:VCALENDAR
