BEGIN:VCALENDAR
VERSION:2.0
PRODID:-//https://eruuf.org///NONSGML kigkonsult.se iCalcreator 2.10.15//
METHOD:PUBLISH
BEGIN:VEVENT
UID:20260423T095918UTC-1015E9p1fT@https://eruuf.org/
DTSTAMP:20260423T095918Z
DESCRIPTION:Monthly meeting of the Earth Justice Ministry Team.  Contact Ch
 eryl Turney for information https://eruuf.org/calendar/calendar-view/event
 /2446-earth-justice-ministry-team.html
DTSTART:20161002T170000Z
DTEND:20161002T183000Z
LOCATION:Fellowship Hall   ()
SUMMARY:Earth Justice Ministry Team
URL:https://eruuf.org/calendar/calendar-view/event/2446-earth-justice-minis
 try-team.html
END:VEVENT
END:VCALENDAR
