BEGIN:VCALENDAR
VERSION:2.0
PRODID:-//https://eruuf.org///NONSGML kigkonsult.se iCalcreator 2.10.15//
METHOD:PUBLISH
BEGIN:VEVENT
UID:20260423T233351UTC-921372wKFi@https://eruuf.org/
DTSTAMP:20260423T233351Z
DESCRIPTION:Monthly meeting of the Earth Justice Ministry Team.  Contact Ch
 eryl Turney for information https://eruuf.org/calendar/calendar-view/event
 /2448-earth-justice-ministry-team.html
DTSTART:20160807T170000Z
DTEND:20160807T183000Z
LOCATION:Room 4/5   (4907 Garrett Rd\, Durham\, NC 27707   )
SUMMARY:Earth Justice Ministry Team
URL:https://eruuf.org/calendar/calendar-view/event/2448-earth-justice-minis
 try-team.html
END:VEVENT
END:VCALENDAR
