BEGIN:VCALENDAR
VERSION:2.0
PRODID:-//https://eruuf.org///NONSGML kigkonsult.se iCalcreator 2.10.15//
METHOD:PUBLISH
BEGIN:VEVENT
UID:20260420T154015UTC-9962rZtrBG@https://eruuf.org/
DTSTAMP:20260420T154015Z
DESCRIPTION:For anyone who has suffered a loss or is grieving\, this group 
 will meet for 5 weeks in August.  For more information\, contact Rev. Xola
 ni Kacela https://eruuf.org/calendar/calendar-view/event/2454-grief-recove
 ry-group.html
DTSTART:20160817T220000Z
DTEND:20160818T010000Z
LOCATION:Fellowship Hall   ()
SUMMARY:Grief Recovery Group
URL:https://eruuf.org/calendar/calendar-view/event/2454-grief-recovery-grou
 p.html
END:VEVENT
END:VCALENDAR
