BEGIN:VCALENDAR
VERSION:2.0
PRODID:-//https://eruuf.org///NONSGML kigkonsult.se iCalcreator 2.10.15//
METHOD:PUBLISH
BEGIN:VEVENT
UID:20260421T185951UTC-4960imRATc@https://eruuf.org/
DTSTAMP:20260421T185951Z
DESCRIPTION:Monthly conversations that seek to deepen the understanding and
  reality of our becoming a radically inclusive community. Contact Steve Fr
 anklinThis Sunday: UUA President Peter Morales resigned over controversies
  involving hiring practices and UU World published articles with titles th
 at read: “Critics see white supremacy in UUA hiring practices”.  Topic/Que
 stion: Unitarian Universalism\, is this a “moment of crisis for our faith”
 ? If it is\, what should we be doing about it? https://eruuf.org/calendar/
 calendar-view/event/2457-first-sunday-conversations.html
DTSTART:20170507T170000Z
DTEND:20170507T190000Z
LOCATION:Room 1 - CARE Building ()
SUMMARY:First Sunday Conversations
URL:https://eruuf.org/calendar/calendar-view/event/2457-first-sunday-conver
 sations.html
END:VEVENT
END:VCALENDAR
