BEGIN:VCALENDAR
VERSION:2.0
PRODID:-//https://eruuf.org///NONSGML kigkonsult.se iCalcreator 2.10.15//
METHOD:PUBLISH
BEGIN:VEVENT
UID:20260423T203212UTC-0891i7vvUT@https://eruuf.org/
DTSTAMP:20260423T203212Z
DESCRIPTION:Monthly conversations that seek to deepen the understanding and
  reality of our becoming a radically inclusive community. Contact Steve Fr
 anklin https://eruuf.org/calendar/calendar-view/event/2459-first-sunday-co
 nversations.html
DTSTART:20170305T180000Z
DTEND:20170305T200000Z
LOCATION:Room 1 - CARE Building ()
SUMMARY:First Sunday Conversations
URL:https://eruuf.org/calendar/calendar-view/event/2459-first-sunday-conver
 sations.html
END:VEVENT
END:VCALENDAR
