BEGIN:VCALENDAR
VERSION:2.0
PRODID:-//https://eruuf.org///NONSGML kigkonsult.se iCalcreator 2.10.15//
METHOD:PUBLISH
BEGIN:VEVENT
UID:20260424T183431UTC-53434ANTFx@https://eruuf.org/
DTSTAMP:20260424T183431Z
DESCRIPTION:Monthly conversations that seek to deepen the understanding and
  reality of our becoming a radically inclusive community. Contact Steve Fr
 anklinToday's topic:In this age of Tweeter\, Facebook\, etc. consider the 
 following question: “Many of us attended the Women’s March on Washington\,
  D.C. & on Raleigh\, NC and huge numbers marched around the US and around 
 the world\, do these marches make any difference?” https://eruuf.org/calen
 dar/calendar-view/event/2460-first-sunday-conversations.html
DTSTART:20170205T180000Z
DTEND:20170205T200000Z
LOCATION:Room 1 - CARE Building ()
SUMMARY:First Sunday Conversations
URL:https://eruuf.org/calendar/calendar-view/event/2460-first-sunday-conver
 sations.html
END:VEVENT
END:VCALENDAR
