BEGIN:VCALENDAR
VERSION:2.0
PRODID:-//https://eruuf.org///NONSGML kigkonsult.se iCalcreator 2.10.15//
METHOD:PUBLISH
BEGIN:VEVENT
UID:20260423T065232UTC-4878Axa20G@https://eruuf.org/
DTSTAMP:20260423T065232Z
DESCRIPTION:For all friends\, visitors or guests who want to know more abou
 t ERUUF and Unitarian Universalism.  Contact Jacqueline Brett https://eruu
 f.org/calendar/calendar-view/event/2501-newcomer-orientation.html
DTSTART:20170409T163000Z
DTEND:20170409T170000Z
LOCATION:Chapel   ()
SUMMARY:Newcomer Orientation
URL:https://eruuf.org/calendar/calendar-view/event/2501-newcomer-orientatio
 n.html
END:VEVENT
END:VCALENDAR
