BEGIN:VCALENDAR
VERSION:2.0
PRODID:-//https://eruuf.org///NONSGML kigkonsult.se iCalcreator 2.10.15//
METHOD:PUBLISH
BEGIN:VEVENT
UID:20260421T155747UTC-77862oF0zd@https://eruuf.org/
DTSTAMP:20260421T155747Z
DESCRIPTION:For all friends\, visitors or guests who want to know more abou
 t ERUUF and Unitarian Universalism.  Contact Jacqueline Brett https://eruu
 f.org/calendar/calendar-view/event/2503-newcomer-orientation.html
DTSTART:20170212T173000Z
DTEND:20170212T180000Z
LOCATION:Chapel   ()
SUMMARY:Newcomer Orientation
URL:https://eruuf.org/calendar/calendar-view/event/2503-newcomer-orientatio
 n.html
END:VEVENT
END:VCALENDAR
