BEGIN:VCALENDAR
VERSION:2.0
PRODID:-//https://eruuf.org///NONSGML kigkonsult.se iCalcreator 2.10.15//
METHOD:PUBLISH
BEGIN:VEVENT
UID:20260426T031919UTC-6209KIHX60@https://eruuf.org/
DTSTAMP:20260426T031919Z
DESCRIPTION:For all friends\, visitors or guests who want to know more abou
 t ERUUF and Unitarian Universalism.  Contact Jacqueline Brett https://eruu
 f.org/calendar/calendar-view/event/2507-newcomer-orientation.html
DTSTART:20161009T163000Z
DTEND:20161009T170000Z
LOCATION:Chapel   ()
SUMMARY:Newcomer Orientation
URL:https://eruuf.org/calendar/calendar-view/event/2507-newcomer-orientatio
 n.html
END:VEVENT
END:VCALENDAR
