BEGIN:VCALENDAR
VERSION:2.0
PRODID:-//https://eruuf.org///NONSGML kigkonsult.se iCalcreator 2.10.15//
METHOD:PUBLISH
BEGIN:VEVENT
UID:20260421T143034UTC-7162ZnZD8S@https://eruuf.org/
DTSTAMP:20260421T143034Z
DESCRIPTION:Have you been thinking about becoming a member of ERUUF? This c
 lass is for you!  Contact student minister Jacqueline Brett for more detai
 ls: jbrett@eruuf.org. https://eruuf.org/calendar/calendar-view/event/2508-
 journey-to-membership.html
DTSTART:20170603T130000Z
DTEND:20170603T160000Z
LOCATION:Fellowship Hall   ()
SUMMARY:Journey to Membership
URL:https://eruuf.org/calendar/calendar-view/event/2508-journey-to-membersh
 ip.html
END:VEVENT
END:VCALENDAR
