BEGIN:VCALENDAR
VERSION:2.0
PRODID:-//https://eruuf.org///NONSGML kigkonsult.se iCalcreator 2.10.15//
METHOD:PUBLISH
BEGIN:VEVENT
UID:20260421T160801UTC-4386xnEctf@https://eruuf.org/
DTSTAMP:20260421T160801Z
DESCRIPTION:Have you been thinking about becoming a member of ERUUF? This c
 lass is for you!  If you’ve been visiting ERUUF for at least 4 weeks (12 w
 eeks if you’re new to Unitarian Universalism)\, and are now interested in 
 becoming a member\, join us at this last Journey to Membership class until
  the Fall! Register at: http://tinyurl.com/J2M-May2017. You'll learn more 
 about ERUUF\, the difference membership makes\, and participate in a book 
 signing ceremony with Rev. Cayer.  Contact student minister Jacqueline Bre
 tt for more details: jbrett@eruuf.org. https://eruuf.org/calendar/calendar
 -view/event/2509-journey-to-membership.html
DTSTART:20170506T130000Z
DTEND:20170506T160000Z
LOCATION:Fellowship Hall   ()
SUMMARY:Journey to Membership
URL:https://eruuf.org/calendar/calendar-view/event/2509-journey-to-membersh
 ip.html
END:VEVENT
END:VCALENDAR
