BEGIN:VCALENDAR
VERSION:2.0
PRODID:-//https://eruuf.org///NONSGML kigkonsult.se iCalcreator 2.10.15//
METHOD:PUBLISH
BEGIN:VEVENT
UID:20260423T101924UTC-90607Zuuak@https://eruuf.org/
DTSTAMP:20260423T101924Z
DESCRIPTION:Have you been thinking about becoming a member of ERUUF? This c
 lass is for you!  If you’ve been visiting ERUUF for at least 4 weeks (12 w
 eeks if you’re new to Unitarian Universalism)\, and are now interested in 
 becoming a member\, please join us for the next Journey to Membership clas
 s. You'll learn more about ERUUF\, the difference membership makes\, and p
 articipate in a book signing ceremony with Rev. Cayer. Childcare provided 
 if requested no later than Tuesday\, January 24. Contact student minister 
 Jacqueline Brett for more details: jbrett@eruuf.org. https://eruuf.org/cal
 endar/calendar-view/event/2511-journey-to-membership.html
DTSTART:20170128T140000Z
DTEND:20170128T170000Z
LOCATION:Fellowship Hall   ()
SUMMARY:Journey to Membership
URL:https://eruuf.org/calendar/calendar-view/event/2511-journey-to-membersh
 ip.html
END:VEVENT
END:VCALENDAR
