BEGIN:VCALENDAR
VERSION:2.0
PRODID:-//https://eruuf.org///NONSGML kigkonsult.se iCalcreator 2.10.15//
METHOD:PUBLISH
BEGIN:VEVENT
UID:20260423T162628UTC-7330EBHB2w@https://eruuf.org/
DTSTAMP:20260423T162628Z
DESCRIPTION:Have you been thinking about becoming a member of ERUUF? This c
 lass is for you!  Contact student minister Jacqueline Brett for more detai
 ls: jbrett@eruuf.org. https://eruuf.org/calendar/calendar-view/event/2512-
 journey-to-membership.html
DTSTART:20161119T140000Z
DTEND:20161119T170000Z
LOCATION:Fellowship Hall   ()
SUMMARY:Journey to Membership
URL:https://eruuf.org/calendar/calendar-view/event/2512-journey-to-membersh
 ip.html
END:VEVENT
END:VCALENDAR
