BEGIN:VCALENDAR
VERSION:2.0
PRODID:-//https://eruuf.org///NONSGML kigkonsult.se iCalcreator 2.10.15//
METHOD:PUBLISH
BEGIN:VEVENT
UID:20260424T051723UTC-5999vA1mJN@https://eruuf.org/
DTSTAMP:20260424T051723Z
DESCRIPTION: https://eruuf.org/calendar/calendar-view/event/253-stewardship
 -council.html
DTSTART:20170905T230000Z
DTEND:20170906T003000Z
LOCATION:Room 1 - CARE Building ()
SUMMARY:Stewardship Council
URL:https://eruuf.org/calendar/calendar-view/event/253-stewardship-council.
 html
END:VEVENT
END:VCALENDAR
