BEGIN:VCALENDAR
VERSION:2.0
PRODID:-//https://eruuf.org///NONSGML kigkonsult.se iCalcreator 2.10.15//
METHOD:PUBLISH
BEGIN:VEVENT
UID:20260423T065847UTC-20684bpgNM@https://eruuf.org/
DTSTAMP:20260423T065847Z
DESCRIPTION:Contact Simon Kaplan https://eruuf.org/calendar/calendar-view/e
 vent/2550-nominating-committee.html
DTSTART:20170216T234500Z
DTEND:20170217T020000Z
LOCATION:Room 1 - CARE Building ()
SUMMARY:Nominating Committee
URL:https://eruuf.org/calendar/calendar-view/event/2550-nominating-committe
 e.html
END:VEVENT
END:VCALENDAR
