BEGIN:VCALENDAR
VERSION:2.0
PRODID:-//https://eruuf.org///NONSGML kigkonsult.se iCalcreator 2.10.15//
METHOD:PUBLISH
BEGIN:VEVENT
UID:20260422T062048UTC-22227MzpMF@https://eruuf.org/
DTSTAMP:20260422T062048Z
DESCRIPTION:Contact Simon Kaplan https://eruuf.org/calendar/calendar-view/e
 vent/2551-nominating-committee.html
DTSTART:20170119T234500Z
DTEND:20170120T020000Z
LOCATION:Room 1 - CARE Building ()
SUMMARY:Nominating Committee
URL:https://eruuf.org/calendar/calendar-view/event/2551-nominating-committe
 e.html
END:VEVENT
END:VCALENDAR
