BEGIN:VCALENDAR
VERSION:2.0
PRODID:-//https://eruuf.org///NONSGML kigkonsult.se iCalcreator 2.10.15//
METHOD:PUBLISH
BEGIN:VEVENT
UID:20260424T194717UTC-0542PAs666@https://eruuf.org/
DTSTAMP:20260424T194717Z
DESCRIPTION:Contact Simon Kaplan https://eruuf.org/calendar/calendar-view/e
 vent/2553-nominating-committee.html
DTSTART:20161117T234500Z
DTEND:20161118T020000Z
LOCATION:Room 1 - CARE Building ()
SUMMARY:Nominating Committee
URL:https://eruuf.org/calendar/calendar-view/event/2553-nominating-committe
 e.html
END:VEVENT
END:VCALENDAR
