BEGIN:VCALENDAR
VERSION:2.0
PRODID:-//https://eruuf.org///NONSGML kigkonsult.se iCalcreator 2.10.15//
METHOD:PUBLISH
BEGIN:VEVENT
UID:20260424T203818UTC-7588LrDNnV@https://eruuf.org/
DTSTAMP:20260424T203818Z
DESCRIPTION:Staff retreatsAug 30 - Senior staffAug. 31 - complete staff    
                   https://eruuf.org/calendar/calendar-view/event/2555-staf
 f-retreat.html
DTSTART:20160831T130000Z
DTEND:20160831T190000Z
LOCATION:Fellowship Hall   ()
SUMMARY:Staff retreat
URL:https://eruuf.org/calendar/calendar-view/event/2555-staff-retreat.html
END:VEVENT
END:VCALENDAR
