BEGIN:VCALENDAR
VERSION:2.0
PRODID:-//https://eruuf.org///NONSGML kigkonsult.se iCalcreator 2.10.15//
METHOD:PUBLISH
BEGIN:VEVENT
UID:20260426T014219UTC-7369VrlmDi@https://eruuf.org/
DTSTAMP:20260426T014219Z
DESCRIPTION:A forum to help all group leaders at ERUUF understand the resou
 rces and institutional support for their work -- everything from ways to u
 se MyERUUF\, have an up-to-date presence on the website\, reserving rooms\
 , getting reimbursed\, finding volunteers and understanding the organizati
 on network of shared ministry.  Come get informed and make your job easier
 !  Two identical forums will be offered - one on Sept 4 and one on Sept 13
 .  Facilitated by Daniel Trollinger\, Shawn Trimble and Beth Harvat.   htt
 ps://eruuf.org/calendar/calendar-view/event/2677-leader-orientation-forum.
 html
DTSTART:20160914T150000Z
DTEND:20160914T160000Z
LOCATION:Room 7 - CARE Building ()
SUMMARY:Leader Orientation Forum
URL:https://eruuf.org/calendar/calendar-view/event/2677-leader-orientation-
 forum.html
END:VEVENT
END:VCALENDAR
