BEGIN:VCALENDAR
VERSION:2.0
PRODID:-//https://eruuf.org///NONSGML kigkonsult.se iCalcreator 2.10.15//
METHOD:PUBLISH
BEGIN:VEVENT
UID:20260419T123953UTC-5522Bj58Cr@https://eruuf.org/
DTSTAMP:20260419T123953Z
DESCRIPTION:Find out how things work at ERUUF and what really matters here.
   This brand new series of four classes has been created especially for ne
 w members. They  provide critical 'must know' information about ERUUF\, ho
 w to get basic things done\, and a little insight about yourself too. Long
 -time members who want a refresher are also welcome!  Classes on Sundays f
 rom 10:30 - 11:00 am in the Chapel. Please register at: http://tinyurl.com
 /Toolkit-May2017. Questions: jbrett@eruuf.org.Here is the schedule of clas
 ses for 2016-2017.SESSION ONE - Culture and CommunityThe four classes in t
 he series begin by lifting up our congregation’s history around race\, our
  commitments to racial equity and inclusion\, and how we're inviting every
 one here to become an “ERUUF Visionary” by participating in this effort.Oc
 tober 16\, February 5\, April 30SESSION TWO - ERUUF OnlineGet a quick tuto
 rial on how to find the important features of our website\, and the benefi
 ts in using the myERUUF portal.October 23\, February 12\, May 7SESSION THR
 EE - How is ERUUF Governed?How do things get decided at ERUUF? Why would t
 his matter to you? Who's on the Board of Trustees\, and how might you get 
 involved?October 30\, February 19\, May 21SESSION FOUR - What's My Spiritu
 al Type?Now for the fun stuff! Use a quick assessment tool to discover wha
 t's likely to appeal to you when you attend worship or participate in ERUU
 F activities. Learn about your comfort zones\, and also your 'growing edge
 s' -- the areas you'll need to 'lean into' in order to grow!November 6\, F
 ebruary 26\, May 28 https://eruuf.org/calendar/calendar-view/event/2732-er
 uuf-member-toolkit-class.html
DTSTART:20170507T143059Z
DTEND:20170507T150000Z
LOCATION:Chapel   ()
SUMMARY:ERUUF Member Toolkit class
URL:https://eruuf.org/calendar/calendar-view/event/2732-eruuf-member-toolki
 t-class.html
END:VEVENT
END:VCALENDAR
