BEGIN:VCALENDAR
VERSION:2.0
PRODID:-//https://eruuf.org///NONSGML kigkonsult.se iCalcreator 2.10.15//
METHOD:PUBLISH
BEGIN:VEVENT
UID:20260422T105650UTC-9296KLuwlg@https://eruuf.org/
DTSTAMP:20260422T105650Z
DESCRIPTION:Service Saturdays will occur thisyear on the second Saturday of
  the month and will provide on-going oppportunities for ERUUFians to volun
 teer at several non-profit organizations whose work is in alignment with E
 RUUF's mission to transform lives.  Stay tuned for more information.  Cont
 act jacqueline Brett\, jbrett@eruuf.org https://eruuf.org/calendar/calenda
 r-view/event/2745-service-saturday.html
DTSTART:20170114T133000Z
DTEND:20170114T170000Z
LOCATION:Fellowship Hall   ()
SUMMARY:Service Saturday
URL:https://eruuf.org/calendar/calendar-view/event/2745-service-saturday.ht
 ml
END:VEVENT
END:VCALENDAR
