BEGIN:VCALENDAR
VERSION:2.0
PRODID:-//https://eruuf.org///NONSGML kigkonsult.se iCalcreator 2.10.15//
METHOD:PUBLISH
BEGIN:VEVENT
UID:20260419T212641UTC-6383RKIb1t@https://eruuf.org/
DTSTAMP:20260419T212641Z
DESCRIPTION:Inspired by the recent Dismantling Racism Workshops\, ERUUF’s M
 ulticultural Team is forming two new affinity groups. They are “Waking Up 
 White” (sign up here) and “People of Color” (sign up here) groups. Both ar
 e elements of ERUUF's goals of racial equity and inclusion. Each group wil
 l use the particular lens of its racial and/or ethnic perspective to deepe
 n its understanding of what it means to be members of a multicultural and 
 racially diverse community. These groups will meet Sundays in October.Expe
 ctations of the participants: openness to challenging existing assumptions
  and beliefs and a willingness to participate in personal exploration and 
 spiritual / personal growth. multiculturalteam@eruuf.org  https://eruuf.or
 g/calendar/calendar-view/event/2758-people-of-color.html
DTSTART:20161009T170000Z
DTEND:20161009T183000Z
LOCATION:Sanctuary - ERUUF   (4907 Garrett Road\, Durham\, NC 27707  )
SUMMARY:People of Color
URL:https://eruuf.org/calendar/calendar-view/event/2758-people-of-color.htm
 l
END:VEVENT
END:VCALENDAR
