BEGIN:VCALENDAR
VERSION:2.0
PRODID:-//https://eruuf.org///NONSGML kigkonsult.se iCalcreator 2.10.15//
METHOD:PUBLISH
BEGIN:VEVENT
UID:20260423T184419UTC-4303DCeuPv@https://eruuf.org/
DTSTAMP:20260423T184419Z
DESCRIPTION:Monthly meeting of the Membership Council.  Contact Chrissey Tr
 ainello https://eruuf.org/calendar/calendar-view/event/2767-membership-cou
 ncil-meeting.html
DTSTART:20170228T234500Z
DTEND:20170301T014500Z
LOCATION:Commons Room   (4907 Garrett Rd\, Durham\, NC 27707  )
SUMMARY:Membership Council meeting
URL:https://eruuf.org/calendar/calendar-view/event/2767-membership-council-
 meeting.html
END:VEVENT
END:VCALENDAR
