BEGIN:VCALENDAR
VERSION:2.0
PRODID:-//https://eruuf.org///NONSGML kigkonsult.se iCalcreator 2.10.15//
METHOD:PUBLISH
BEGIN:VEVENT
UID:20260419T134456UTC-4827bj0SOh@https://eruuf.org/
DTSTAMP:20260419T134456Z
DESCRIPTION:Inspired by the recent Dismantling Racism Workshops\, ERUUF’s M
 ulticultural Team is forming two new affinity groups. They are “Waking Up 
 White” (sign up here) and “People of Color” (sign up here) groups. Both ar
 e elements of ERUUF's goals of racial equity and inclusion. Each group wil
 l use the particular lens of its racial and/or ethnic perspective to deepe
 n its understanding of what it means to be members of a multicultural and 
 racially diverse community. Expectations of the participants: openness to 
 challenging existing assumptions and beliefs and a willingness to particip
 ate in personal exploration and spiritual / personal growth. multicultural
 team@eruuf.org  https://eruuf.org/calendar/calendar-view/event/2776-people
 -of-color.html
DTSTART:20161218T180000Z
DTEND:20161218T193000Z
LOCATION:Room 1 - CARE Building ()
SUMMARY:People of Color
URL:https://eruuf.org/calendar/calendar-view/event/2776-people-of-color.htm
 l
END:VEVENT
END:VCALENDAR
